BEGIN:VCALENDAR
VERSION:2.0
PRODID:-//https://votermeetups.com///NONSGML kigkonsult.se iCalcreator 2.10.15//
METHOD:PUBLISH
BEGIN:VEVENT
UID:20260420T090204UTC-9670HEVgoX@https://votermeetups.com/
DTSTAMP:20260420T090204Z
DESCRIPTION:Address:&nbsp\;1100 Congress Ave\, Austin Texas 78701 (https://
 t.me/debates2024)\nChairman Allen West says: 'Perhaps law-abiding states s
 hould bond together and form a Union of States... Meet at the State Capita
 l in Texas and join the debates to get this project started on Telegram. h
 ttps://votermeetups.com/upcoming-events/event/11-law-abiding-union-of-stat
 es-debates.html
DTSTART;VALUE=DATE:20210101
LOCATION:Texas State Capital Building Austin\, Texas (1100 Congress Ave\, A
 ustin Texas 78701)
SUMMARY:Law-Abiding Union of States Debates
URL:https://votermeetups.com/upcoming-events/event/11-law-abiding-union-of-
 states-debates.html
END:VEVENT
END:VCALENDAR
